BEGIN:VCALENDAR
VERSION:2.0
PRODID:Festival de Folclore | Estrela dos Vales
X-WR-CALNAME:Festival de Folclore | Estrela dos Vales
X-WR-TIMEZONE:Europe/Lisbon
X-PUBLISHED-TTL:P1W
BEGIN:VTIMEZONE
TZID:Europe/Lisbon
X-LIC-LOCATION:Europe/Lisbon
END:VTIMEZONE
BEGIN:VEVENT
UID:69e581720a474
DTSTART;VALUE=DATE:20260530
SEQUENCE:0
TRANSP:OPAQUE
DTEND;VALUE=DATE:20260531
SUMMARY:Festival de Folclore | Estrela dos Vales
CLASS:PUBLIC
DESCRIPTION:O Rancho Folclórico Estrela dos Vales faz regressar o seu Fest
 ival de Folclore a freguesia.
X-MICROSOFT-CDO-ALLDAYEVENT:TRUE
DTSTAMP:20260420T012922Z
END:VEVENT
END:VCALENDAR