BEGIN:VCALENDAR
VERSION:2.0
PRODID:Páscoa em Longos Vales | Caça aos Ovos
X-WR-CALNAME:Páscoa em Longos Vales | Caça aos Ovos
X-WR-TIMEZONE:Europe/Lisbon
X-PUBLISHED-TTL:P1W
BEGIN:VTIMEZONE
TZID:Europe/Lisbon
X-LIC-LOCATION:Europe/Lisbon
END:VTIMEZONE
BEGIN:VEVENT
UID:69e581ea27a57
DTSTART;VALUE=DATE:20260329
SEQUENCE:0
TRANSP:OPAQUE
DTEND;VALUE=DATE:20260330
SUMMARY:Páscoa em Longos Vales | Caça aos Ovos
CLASS:PUBLIC
DESCRIPTION:A Sede da Junta de Freguesia de Longos Vales recebe uma Caça a
 os Ovos totalmente pensada para os mais novos!
X-MICROSOFT-CDO-ALLDAYEVENT:TRUE
DTSTAMP:20260420T013122Z
END:VEVENT
END:VCALENDAR