BEGIN:VCALENDAR
VERSION:2.0
PRODID:Páscoa em Longos Vales | Concerto
X-WR-CALNAME:Páscoa em Longos Vales | Concerto
X-WR-TIMEZONE:Europe/Lisbon
X-PUBLISHED-TTL:P1W
BEGIN:VTIMEZONE
TZID:Europe/Lisbon
X-LIC-LOCATION:Europe/Lisbon
END:VTIMEZONE
BEGIN:VEVENT
UID:69e559af936cb
DTSTART;VALUE=DATE:20260328
SEQUENCE:0
TRANSP:OPAQUE
DTEND;VALUE=DATE:20260329
SUMMARY:Páscoa em Longos Vales | Concerto
CLASS:PUBLIC
DESCRIPTION:A Páscoa é especial em Longos Vales. No dia 28 de março prep
 aramos um concerto de Páscoa no Mosteiro de São João de Longos Vales. C
 ontamos consigo!
X-MICROSOFT-CDO-ALLDAYEVENT:TRUE
DTSTAMP:20260419T223943Z
END:VEVENT
END:VCALENDAR