BEGIN:VCALENDAR
VERSION:2.0
PRODID:Festival de Folclore | Amigos de Longos Vales
X-WR-CALNAME:Festival de Folclore | Amigos de Longos Vales
X-WR-TIMEZONE:Europe/Lisbon
X-PUBLISHED-TTL:P1W
BEGIN:VTIMEZONE
TZID:Europe/Lisbon
X-LIC-LOCATION:Europe/Lisbon
END:VTIMEZONE
BEGIN:VEVENT
UID:69e5bb9e662c4
DTSTART;VALUE=DATE:20260726
SEQUENCE:0
TRANSP:OPAQUE
DTEND;VALUE=DATE:20260727
SUMMARY:Festival de Folclore | Amigos de Longos Vales
CLASS:PUBLIC
DESCRIPTION:O Rancho Folclórico Amigos de Longos Vales reune-se para mais 
 um Festival organizado por esta associação. Para animar uma tarde quente
  de verão onde o convívio e a partilhar marcam presença junto com as tr
 adições.
X-MICROSOFT-CDO-ALLDAYEVENT:TRUE
DTSTAMP:20260420T053734Z
END:VEVENT
END:VCALENDAR