BEGIN:VCALENDAR
VERSION:2.0
PRODID:São João de Longos Vales
X-WR-CALNAME:São João de Longos Vales
X-WR-TIMEZONE:Europe/Lisbon
X-PUBLISHED-TTL:P1W
BEGIN:VTIMEZONE
TZID:Europe/Lisbon
X-LIC-LOCATION:Europe/Lisbon
END:VTIMEZONE
BEGIN:VEVENT
UID:69e5599a17994
DTSTART;VALUE=DATE:20250624
SEQUENCE:0
TRANSP:OPAQUE
DTEND;VALUE=DATE:20250625
SUMMARY:São João de Longos Vales
CLASS:PUBLIC
DESCRIPTION:Todos os anos\, o dia 24 de junho\, em Longos Vales\, é comemo
 rada a Eucaristia em honra a São João Batista.
X-MICROSOFT-CDO-ALLDAYEVENT:TRUE
DTSTAMP:20260419T223922Z
END:VEVENT
END:VCALENDAR