BEGIN:VCALENDAR
VERSION:2.0
PRODID:Visita Pastoral | Celebração da Eucaristia
X-WR-CALNAME:Visita Pastoral | Celebração da Eucaristia
X-WR-TIMEZONE:Europe/Lisbon
X-PUBLISHED-TTL:P1W
BEGIN:VTIMEZONE
TZID:Europe/Lisbon
X-LIC-LOCATION:Europe/Lisbon
END:VTIMEZONE
BEGIN:VEVENT
UID:69e55a11a8c1a
DTSTART;VALUE=DATE:20260315
SEQUENCE:0
TRANSP:OPAQUE
DTEND;VALUE=DATE:20260316
SUMMARY:Visita Pastoral | Celebração da Eucaristia
CLASS:PUBLIC
DESCRIPTION:D. João Lavrador irá proceder a Celebração da Eucaristia\, 
 na Igreja Paroquial.&nbsp\;Convida-se toda a comunidade a participar neste
  momento para a vida da paróquia\, reforçando os laços de fé\, comunh
 ão e compromisso com a nossa Igreja e com a nossa terra.
X-MICROSOFT-CDO-ALLDAYEVENT:TRUE
DTSTAMP:20260419T224121Z
END:VEVENT
END:VCALENDAR