BEGIN:VCALENDAR
VERSION:2.0
PRODID:Santo António da Seca  - Santo António
X-WR-CALNAME:Santo António da Seca  - Santo António
X-WR-TIMEZONE:Europe/Lisbon
X-PUBLISHED-TTL:P1W
BEGIN:VTIMEZONE
TZID:Europe/Lisbon
X-LIC-LOCATION:Europe/Lisbon
END:VTIMEZONE
BEGIN:VEVENT
UID:69e56a916ed7e
DTSTART;VALUE=DATE:20270613
SEQUENCE:0
TRANSP:OPAQUE
DTEND;VALUE=DATE:20270614
SUMMARY:Santo António da Seca  - Santo António
CLASS:PUBLIC
DESCRIPTION:A Capela de Santo António da Seca recebe a eucaristia em honra
  a Santo António. Este pequeno templo religioso recebe a fé e a devoçã
 o de todos.
X-MICROSOFT-CDO-ALLDAYEVENT:TRUE
DTSTAMP:20260419T235145Z
END:VEVENT
END:VCALENDAR