BEGIN:VCALENDAR
VERSION:2.0
PRODID:Feriado Municipal de Monção
X-WR-CALNAME:Feriado Municipal de Monção
X-WR-TIMEZONE:Europe/Lisbon
X-PUBLISHED-TTL:P1W
BEGIN:VTIMEZONE
TZID:Europe/Lisbon
X-LIC-LOCATION:Europe/Lisbon
END:VTIMEZONE
BEGIN:VEVENT
UID:69e559e3618b8
DTSTART;VALUE=DATE:20270312
SEQUENCE:0
TRANSP:OPAQUE
DTEND;VALUE=DATE:20270313
SUMMARY:Feriado Municipal de Monção
CLASS:PUBLIC
DESCRIPTION:O feriado municipal de Monção é celebrado a&nbsp\;12 de mar
 ço\, assinalando o dia em que o Rei D. Afonso III concedeu a carta de for
 al ao município em 1261. Esta data é dedicada à história e identidade 
 de Monção.&nbsp\;
X-MICROSOFT-CDO-ALLDAYEVENT:TRUE
DTSTAMP:20260419T224035Z
END:VEVENT
END:VCALENDAR