BEGIN:VCALENDAR
VERSION:2.0
PRODID:Visita Pastoral | Visita ao Património Religioso da Paróquia
X-WR-CALNAME:Visita Pastoral | Visita ao Património Religioso da Paróquia
X-WR-TIMEZONE:Europe/Lisbon
X-PUBLISHED-TTL:P1W
BEGIN:VTIMEZONE
TZID:Europe/Lisbon
X-LIC-LOCATION:Europe/Lisbon
END:VTIMEZONE
BEGIN:VEVENT
UID:69e559af5e7cf
DTSTART;VALUE=DATE:20260310
SEQUENCE:0
TRANSP:OPAQUE
DTEND;VALUE=DATE:20260311
SUMMARY:Visita Pastoral | Visita ao Património Religioso da Paróquia
CLASS:PUBLIC
DESCRIPTION:A freguesia recebe D. João Lavrador para &nbsp\;uma visita ao 
 património religioso da paróquia\, seguida de encontro com as associaç
 ões e movimentos da freguesia.
X-MICROSOFT-CDO-ALLDAYEVENT:TRUE
DTSTAMP:20260419T223943Z
END:VEVENT
END:VCALENDAR