BEGIN:VCALENDAR
VERSION:2.0
PRODID:São Caetano
X-WR-CALNAME:São Caetano
X-WR-TIMEZONE:Europe/Lisbon
X-PUBLISHED-TTL:P1W
BEGIN:VTIMEZONE
TZID:Europe/Lisbon
X-LIC-LOCATION:Europe/Lisbon
END:VTIMEZONE
BEGIN:VEVENT
UID:69e5cfde261a7
DTSTART;VALUE=DATE:20260807
SEQUENCE:0
TRANSP:OPAQUE
DTEND;VALUE=DATE:20260808
SUMMARY:São Caetano
CLASS:PUBLIC
DESCRIPTION:Realiza-se a Eucaristia em honra a São Caetano juntando fieis 
 devotos na igreja deste servo de Deus.
X-MICROSOFT-CDO-ALLDAYEVENT:TRUE
DTSTAMP:20260420T070358Z
END:VEVENT
END:VCALENDAR