BEGIN:VCALENDAR
VERSION:2.0
PRODID:Levantamento do Pau | São João
X-WR-CALNAME:Levantamento do Pau | São João
X-WR-TIMEZONE:Europe/Lisbon
X-PUBLISHED-TTL:P1W
BEGIN:VTIMEZONE
TZID:Europe/Lisbon
X-LIC-LOCATION:Europe/Lisbon
END:VTIMEZONE
BEGIN:VEVENT
UID:69e559a547326
DTSTART;VALUE=DATE:20260607
SEQUENCE:0
TRANSP:OPAQUE
DTEND;VALUE=DATE:20260608
SUMMARY:Levantamento do Pau | São João
CLASS:PUBLIC
DESCRIPTION:Mais uma ano em que Longos Vales se prepara para a tradição c
 entenária do Levantamento do Pau da Bandeira.&nbsp\;O pau\, um eucalipto\
 , é escolhido pela ‘quadra’ que percorre os montes da aldeia. Uma vez
  cortado\, é pintado às cores para ser “levantado” com a ajuda de qu
 atro cordas entrelaçadas. E uma vez levantado\, é enterrado para se mant
 er hasteado até 31 de dezembro.
X-MICROSOFT-CDO-ALLDAYEVENT:TRUE
DTSTAMP:20260419T223933Z
END:VEVENT
END:VCALENDAR