BEGIN:VCALENDAR
VERSION:2.0
PRODID:Compasso Pascal
X-WR-CALNAME:Compasso Pascal
X-WR-TIMEZONE:Europe/Lisbon
X-PUBLISHED-TTL:P1W
BEGIN:VTIMEZONE
TZID:Europe/Lisbon
X-LIC-LOCATION:Europe/Lisbon
END:VTIMEZONE
BEGIN:VEVENT
UID:69e55945a10f6
DTSTART;VALUE=DATE:20260406
SEQUENCE:0
TRANSP:OPAQUE
DTEND;VALUE=DATE:20260407
SUMMARY:Compasso Pascal
CLASS:PUBLIC
DESCRIPTION:O Compasso Pascal é uma tradicional visita católica em Portug
 al\,onde uma comitiva paroquial leva a cruz de Cristo\, benzida\, a casa d
 os paroquianos para anunciar a ressurreição.Na freguesia de Longos Vales
  o final da mesma será realizada na Sede da Junta de Freguesia.
X-MICROSOFT-CDO-ALLDAYEVENT:TRUE
DTSTAMP:20260419T223757Z
END:VEVENT
END:VCALENDAR