BEGIN:VCALENDAR
VERSION:2.0
PRODID:Nossa Senhora do Augmento
X-WR-CALNAME:Nossa Senhora do Augmento
X-WR-TIMEZONE:Europe/Lisbon
X-PUBLISHED-TTL:P1W
BEGIN:VTIMEZONE
TZID:Europe/Lisbon
X-LIC-LOCATION:Europe/Lisbon
END:VTIMEZONE
BEGIN:VEVENT
UID:69e569c288d28
DTSTART;VALUE=DATE:20260802
SEQUENCE:0
TRANSP:OPAQUE
DTEND;VALUE=DATE:20260803
SUMMARY:Nossa Senhora do Augmento
CLASS:PUBLIC
DESCRIPTION:Realiza-se a Eucaristia em honra a Nossa Senhora do Augmento&nb
 sp\;no lugar de Souto Fiscal.
X-MICROSOFT-CDO-ALLDAYEVENT:TRUE
DTSTAMP:20260419T234818Z
END:VEVENT
END:VCALENDAR