BEGIN:VCALENDAR
VERSION:2.0
PRODID:3ª Edição da Festa do Cozido
X-WR-CALNAME:3ª Edição da Festa do Cozido
X-WR-TIMEZONE:Europe/Lisbon
X-PUBLISHED-TTL:P1W
BEGIN:VTIMEZONE
TZID:Europe/Lisbon
X-LIC-LOCATION:Europe/Lisbon
END:VTIMEZONE
BEGIN:VEVENT
UID:69e581d1597c3
DTSTART;VALUE=DATE:20260301
SEQUENCE:0
TRANSP:OPAQUE
DTEND;VALUE=DATE:20260302
SUMMARY:3ª Edição da Festa do Cozido
CLASS:PUBLIC
DESCRIPTION:O Grupo Folclórico Estrela dos Vales organizam mais uma ediç
 ão do Cozido\, mostrando a importância do convívio\, da tradição e da
  partilha.&nbsp\;
X-MICROSOFT-CDO-ALLDAYEVENT:TRUE
DTSTAMP:20260420T013057Z
END:VEVENT
END:VCALENDAR